BEGIN:VCALENDAR
VERSION:2.0
PRODID:icalendar-ruby
CALSCALE:GREGORIAN
METHOD:PUBLISH
BEGIN:VEVENT
DTSTAMP:20260420T182539Z
UID:294-2678107@stgeorgesmoncton.ca
DTSTART:20260420T160000Z
DTEND:20260420T170000Z
CLASS:PUBLIC
CREATED:20260420T121205
DESCRIPTION:
LAST-MODIFIED:20260420T121205
LOCATION:
SUMMARY:Easter 3
URL;VALUE=URI:https://www.stgeorgesmoncton.ca/events/easter-3/2026-04-20
ATTACH;FILENAME=Gemini_Generated_Image_b2i0rcb2i0rcb2i0.png;FMTTYPE=image/p
 ng:https://dq5pwpg1q8ru0.cloudfront.net/2026/04/20/15/12/05/8556da06-ba25-
 4251-a2cf-d56f114c5ed0/Gemini_Generated_Image_b2i0rcb2i0rcb2i0.png
ATTACH;FILENAME=Easter 3.pdf;FMTTYPE=application/pdf:https://dq5pwpg1q8ru0.
 cloudfront.net/2026/04/20/15/12/04/0946607c-178f-4e60-a177-fdd6b09f9d30/Ea
 ster%203.pdf
END:VEVENT
END:VCALENDAR
